BEGIN:VCALENDAR
VERSION:2.0
METHOD:PUBLISH
PRODID:Wuppertal-Live ICal v9.0 R38/39
BEGIN:VEVENT
CLASS:PUBLIC
DESCRIPTION:weitere Termininfos und Ticketbuchung unter https://www.neander
 ticket.de/ical/632737 
DTEND;TZID=Europe/Berlin:20260805T160000
DTSTAMP:20260425T161901Z
DTSTART;TZID=Europe/Berlin:20260805T140000
LOCATION:Zeittunnel\, Hammerstein 5\, 42489 Wülfrath
PRIORITY:5
SEQUENCE:0
SUMMARY:Zeichne deinen Dinosaurier
TRANSP:OPAQUE
UID:632737:www.neanderticket.de
URL:https://www.neanderticket.de/ical/632737
END:VEVENT
END:VCALENDAR
