BEGIN:VCALENDAR
VERSION:2.0
METHOD:PUBLISH
PRODID:Wuppertal-Live ICal v9.0 R38/39
BEGIN:VEVENT
CLASS:PUBLIC
DESCRIPTION:weitere Termininfos und Ticketbuchung unter https://www.neander
 ticket.de/ical/629521 
DTEND;TZID=Europe/Berlin:20261014T220000
DTSTAMP:20260421T104806Z
DTSTART;TZID=Europe/Berlin:20261014T200000
LOCATION:Der Club\, Hülsbecker Str. 16\, 42579 Heiligenhaus
PRIORITY:5
SEQUENCE:0
SUMMARY:Tim Becker -- Der mit den Puppen spricht
TRANSP:OPAQUE
UID:629521:www.neanderticket.de
URL:https://www.neanderticket.de/ical/629521
END:VEVENT
END:VCALENDAR
