BEGIN:VCALENDAR
VERSION:2.0
METHOD:PUBLISH
PRODID:Wuppertal-Live ICal v9.0 R38/39
BEGIN:VEVENT
CLASS:PUBLIC
DESCRIPTION:weitere Termininfos unter https://www.wuppertal-live.de/ical/62
 8540 
DTEND;TZID=Europe/Berlin:20260512T210000
DTSTAMP:20260421T104021Z
DTSTART;TZID=Europe/Berlin:20260512T190000
LOCATION:BürgerBahnhof Vohwinkel\, Bahnstr. 16\, 42327 Wuppertal
PRIORITY:5
SEQUENCE:0
SUMMARY:Auskunft -- Das seltsame BüBa-Quiz
TRANSP:OPAQUE
UID:628540:www.wuppertal-live.de
URL:https://www.wuppertal-live.de/ical/628540
END:VEVENT
END:VCALENDAR
