BEGIN:VCALENDAR
VERSION:2.0
METHOD:PUBLISH
PRODID:Wuppertal-Live ICal v9.0 R38/39
BEGIN:VEVENT
CLASS:PUBLIC
DESCRIPTION:weitere Termininfos und Ticketbuchung unter https://www.neander
 ticket.de/ical/624087 
DTEND;TZID=Europe/Berlin:20260502T220000
DTSTAMP:20260419T172609Z
DTSTART;TZID=Europe/Berlin:20260502T200000
LOCATION:KaBARett Flin\, Ludenberger Str. 37\, 40629 Düsseldorf
PRIORITY:5
SEQUENCE:0
SUMMARY:Diva La Kruttke -- Let´s Diva - Wecke die Diva in Dir
TRANSP:OPAQUE
UID:624087:www.neanderticket.de
URL:https://www.neanderticket.de/ical/624087
END:VEVENT
END:VCALENDAR
