BEGIN:VCALENDAR
VERSION:2.0
METHOD:PUBLISH
PRODID:Wuppertal-Live ICal v9.0 R38/39
BEGIN:VEVENT
CLASS:PUBLIC
DESCRIPTION:weitere Termininfos und Ticketbuchung unter https://www.solinge
 n-live.de/ical/623614 
DTEND;TZID=Europe/Berlin:20261121T220000
DTSTAMP:20260423T104912Z
DTSTART;TZID=Europe/Berlin:20261121T200000
LOCATION:Theater und Konzerthaus Solingen\, Konrad-Adenauer-Str. 71\, 42651
  Solingen
PRIORITY:5
SEQUENCE:0
SUMMARY:Solinger Theater- und Kabarettpreis 2026
TRANSP:OPAQUE
UID:623614:www.solingen-live.de
URL:https://www.solingen-live.de/ical/623614
END:VEVENT
END:VCALENDAR
