BEGIN:VCALENDAR
VERSION:2.0
METHOD:PUBLISH
PRODID:Wuppertal-Live ICal v9.0 R38/39
BEGIN:VEVENT
CLASS:PUBLIC
DESCRIPTION:weitere Termininfos und Ticketbuchung unter https://www.neander
 ticket.de/ical/617387 
DTEND;TZID=Europe/Berlin:20260506T220000
DTSTAMP:20260419T160234Z
DTSTART;TZID=Europe/Berlin:20260506T200000
LOCATION:KaBARett Flin\, Ludenberger Str. 37\, 40629 Düsseldorf
PRIORITY:5
SEQUENCE:0
SUMMARY:Tim Becker -- Solo im Doppelpack\, Bauchreden &amp\; Zauberer Umeno
 
TRANSP:OPAQUE
UID:617387:www.neanderticket.de
URL:https://www.neanderticket.de/ical/617387
END:VEVENT
END:VCALENDAR
