BEGIN:VCALENDAR
VERSION:2.0
METHOD:PUBLISH
PRODID:Wuppertal-Live ICal v9.0 R38/39
BEGIN:VEVENT
CLASS:PUBLIC
DESCRIPTION:weitere Termininfos und Ticketbuchung unter https://www.neander
 ticket.de/ical/611299 
DTEND;TZID=Europe/Berlin:20260508T220000
DTSTAMP:20260420T010502Z
DTSTART;TZID=Europe/Berlin:20260508T200000
LOCATION:KaBARett Flin\, Ludenberger Str. 37\, 40629 Düsseldorf
PRIORITY:5
SEQUENCE:0
SUMMARY:Peter Vollmer -- Frauen verblühen\, Männer verduften
TRANSP:OPAQUE
UID:611299:www.neanderticket.de
URL:https://www.neanderticket.de/ical/611299
END:VEVENT
END:VCALENDAR
