BEGIN:VCALENDAR
VERSION:2.0
METHOD:PUBLISH
PRODID:Wuppertal-Live ICal v9.0 R38/39
BEGIN:VEVENT
CLASS:PUBLIC
DESCRIPTION:weitere Termininfos und Ticketbuchung unter https://www.remsche
 id-live.de/ical/610727 
DTEND;TZID=Europe/Berlin:20260911T220000
DTSTAMP:20260424T220853Z
DTSTART;TZID=Europe/Berlin:20260911T200000
LOCATION:Klosterkirche Lennep\, Klostergasse 8\, 42897 Remscheid
PRIORITY:5
SEQUENCE:0
SUMMARY:Das Tak-Ensemble -- Aller guten Dinge: Dry
TRANSP:OPAQUE
UID:610727:www.remscheid-live.de
URL:https://www.remscheid-live.de/ical/610727
END:VEVENT
END:VCALENDAR
